BEGIN:VCALENDAR
VERSION:2.0
PRODID:-//North Carolina Bankers Association - ECPv6.15.20//NONSGML v1.0//EN
CALSCALE:GREGORIAN
METHOD:PUBLISH
X-ORIGINAL-URL:https://ncbankers.org
X-WR-CALDESC:Events for North Carolina Bankers Association
REFRESH-INTERVAL;VALUE=DURATION:PT1H
X-Robots-Tag:noindex
X-PUBLISHED-TTL:PT1H
BEGIN:VTIMEZONE
TZID:America/New_York
BEGIN:DAYLIGHT
TZOFFSETFROM:-0500
TZOFFSETTO:-0400
TZNAME:EDT
DTSTART:20240310T070000
END:DAYLIGHT
BEGIN:STANDARD
TZOFFSETFROM:-0400
TZOFFSETTO:-0500
TZNAME:EST
DTSTART:20241103T060000
END:STANDARD
BEGIN:DAYLIGHT
TZOFFSETFROM:-0500
TZOFFSETTO:-0400
TZNAME:EDT
DTSTART:20250309T070000
END:DAYLIGHT
BEGIN:STANDARD
TZOFFSETFROM:-0400
TZOFFSETTO:-0500
TZNAME:EST
DTSTART:20251102T060000
END:STANDARD
BEGIN:DAYLIGHT
TZOFFSETFROM:-0500
TZOFFSETTO:-0400
TZNAME:EDT
DTSTART:20260308T070000
END:DAYLIGHT
BEGIN:STANDARD
TZOFFSETFROM:-0400
TZOFFSETTO:-0500
TZNAME:EST
DTSTART:20261101T060000
END:STANDARD
END:VTIMEZONE
BEGIN:VEVENT
DTSTART;TZID=America/New_York:20250206T000000
DTEND;TZID=America/New_York:20250206T000000
DTSTAMP:20260419T181842
CREATED:20250127T140127Z
LAST-MODIFIED:20250127T140948Z
UID:10000008-1738800000-1738800000@ncbankers.org
SUMMARY:Adverse Action Compliance Workshop (3 CRCM Credits)
DESCRIPTION:How many ways do we say no? And how do we do that while complying with at least 3 separate regulatory rules? (soon to be 4?) Join us for this special 2 and a half hour class and workshop for community bankers to explore the requirements and the processes for Adverse Action compliance.
URL:https://ncbankers.org/event/adverse-action-compliance-workshop-3-crcm-credits/
CATEGORIES:OnCourse Webinars
END:VEVENT
BEGIN:VEVENT
DTSTART;TZID=America/New_York:20250206T000000
DTEND;TZID=America/New_York:20250206T000000
DTSTAMP:20260419T181842
CREATED:20250127T140133Z
LAST-MODIFIED:20250127T140947Z
UID:10000010-1738800000-1738800000@ncbankers.org
SUMMARY:The UCC for Lenders
DESCRIPTION:This program is a comprehensive Uniform Commercial Code (UCC) secured lending program for persons new to the financial services industry and is also recommended as a refresher.
URL:https://ncbankers.org/event/the-ucc-for-lenders/
CATEGORIES:OnCourse Webinars
END:VEVENT
BEGIN:VEVENT
DTSTART;TZID=America/New_York:20250210T000000
DTEND;TZID=America/New_York:20250210T000000
DTSTAMP:20260419T181842
CREATED:20250127T140135Z
LAST-MODIFIED:20250127T140947Z
UID:10000012-1739145600-1739145600@ncbankers.org
SUMMARY:CRE Appraisals: Regulations and the Review Process
DESCRIPTION:This session will cover the key issues from current regulatory guidance for CRE appraisals. You will get tips for integrating them into your existing policies\, and ideas for meeting new/recent requirements for screening appraisals for USPAP compliance.
URL:https://ncbankers.org/event/cre-appraisals-regulations-and-the-review-process/
CATEGORIES:OnCourse Webinars
END:VEVENT
BEGIN:VEVENT
DTSTART;TZID=America/New_York:20250213T000000
DTEND;TZID=America/New_York:20250213T000000
DTSTAMP:20260419T181842
CREATED:20250127T140207Z
LAST-MODIFIED:20250127T140910Z
UID:10000019-1739404800-1739404800@ncbankers.org
SUMMARY:Bi-Monthly Compliance Briefing - 6 Part Series (2025) (15 CRCM Credits)
DESCRIPTION:Keeping up with changes and deadlines in the compliance area gets more complex every year. Now\, we can assist you with that task. This series includes bi-monthly (6)\, two-hour webinars focused on the most recent changes to the compliance landscape.\nCarl Pry\, a well-known and highly respected compliance expert and recipient of the 2015 ABA Distinguished Service Award will be presenting a bi-monthly update that will address new items to be aware of\, deadlines\, and what’s on the horizon. In a simple language webinar format that you can view from your office\, Carl will make sure you have the information you need to keep your financial institution in compliance.
URL:https://ncbankers.org/event/bi-monthly-compliance-briefing-6-part-series-2025-15-crcm-credits/
CATEGORIES:OnCourse Webinars
END:VEVENT
BEGIN:VEVENT
DTSTART;TZID=America/New_York:20250219T000000
DTEND;TZID=America/New_York:20250219T000000
DTSTAMP:20260419T181842
CREATED:20250127T140216Z
LAST-MODIFIED:20250127T140909Z
UID:10000025-1739923200-1739923200@ncbankers.org
SUMMARY:What to Do When a Customer Dies
DESCRIPTION:We’ll walk you through the best practices when dealing with a customer’s death – both on the deposit side and the loan side\, as well as unique issues that can arise when doing business with the decedent’s estate.\nThis webinar provides information on best practices\, rather than the unique features of any state’s probate laws.
URL:https://ncbankers.org/event/what-to-do-when-a-customer-dies/
CATEGORIES:OnCourse Webinars
END:VEVENT
BEGIN:VEVENT
DTSTART;TZID=America/New_York:20250220T000000
DTEND;TZID=America/New_York:20250220T000000
DTSTAMP:20260419T181842
CREATED:20250127T140217Z
LAST-MODIFIED:20250127T140909Z
UID:10000026-1740009600-1740009600@ncbankers.org
SUMMARY:Dealing with Appraisals and Valuations: Regulations and Requirements\, including Recent Developments - Part 1 (2 Part Series) (5 CRCM Credits)
DESCRIPTION:Must applicants be provided with the ability to contest the appraisal (hint: yes\, through the ROV proves). How should this be handled? Are there additional requirements for FHA lenders\, or those that sell loans to Fannie or Freddie?\nWe’ll provide in-depth answers to all these questions and discuss all the details of the appraisal and valuation process\, from both the lender and appraiser side of the game (including USPAP requirements)\, to provide a thorough understanding of what is required and what you need.
URL:https://ncbankers.org/event/dealing-with-appraisals-and-valuations-regulations-and-requirements-including-recent-developments-part-1-2-part-series-5-crcm-credits/
CATEGORIES:OnCourse Webinars
END:VEVENT
BEGIN:VEVENT
DTSTART;TZID=America/New_York:20250224T000000
DTEND;TZID=America/New_York:20250224T000000
DTSTAMP:20260419T181842
CREATED:20250127T140222Z
LAST-MODIFIED:20250127T140908Z
UID:10000029-1740355200-1740355200@ncbankers.org
SUMMARY:CRE Appraisals: Components\, Approaches to Value & Cap Rates
DESCRIPTION:This program provides an overview of the key components of CRE appraisals and where financial professionals can find important information to assist in underwriting and understanding the sustainability of cash flow and the stability of the value of a property.
URL:https://ncbankers.org/event/cre-appraisals-components-approaches-to-value-cap-rates/
CATEGORIES:OnCourse Webinars
END:VEVENT
BEGIN:VEVENT
DTSTART;TZID=America/New_York:20250226T000000
DTEND;TZID=America/New_York:20250226T000000
DTSTAMP:20260419T181842
CREATED:20250127T140224Z
LAST-MODIFIED:20250127T140907Z
UID:10000032-1740528000-1740528000@ncbankers.org
SUMMARY:Converting Accrual Financial Statements Into Cash Flow
DESCRIPTION:Financial statements and tax returns can be prepared on a cash or accrual basis. The difference in the two accounting methods is vast. Both methods have their advantages and disadvantages. Unfortunately\, financial institution professionals often do not have a say in the type of accounting method the client will present to them.
URL:https://ncbankers.org/event/converting-accrual-financial-statements-into-cash-flow/
CATEGORIES:OnCourse Webinars
END:VEVENT
BEGIN:VEVENT
DTSTART;TZID=America/New_York:20250227T000000
DTEND;TZID=America/New_York:20250227T000000
DTSTAMP:20260419T181842
CREATED:20250127T140234Z
LAST-MODIFIED:20250127T140907Z
UID:10000034-1740614400-1740614400@ncbankers.org
SUMMARY:Dealing with Appraisals and Valuations: Regulations and Requirements\, including Recent Developments - Part 1 (2 Part Series) (5 CRCM Credits)
DESCRIPTION:Must applicants be provided with the ability to contest the appraisal (hint: yes\, through the ROV proves). How should this be handled? Are there additional requirements for FHA lenders\, or those that sell loans to Fannie or Freddie?\nWe’ll provide in-depth answers to all these questions and discuss all the details of the appraisal and valuation process\, from both the lender and appraiser side of the game (including USPAP requirements)\, to provide a thorough understanding of what is required and what you need.
URL:https://ncbankers.org/event/dealing-with-appraisals-and-valuations-regulations-and-requirements-including-recent-developments-part-1-2-part-series-5-crcm-credits-2/
CATEGORIES:OnCourse Webinars
END:VEVENT
END:VCALENDAR