BEGIN:VCALENDAR
VERSION:2.0
PRODID:-//North Carolina Bankers Association - ECPv6.15.20//NONSGML v1.0//EN
CALSCALE:GREGORIAN
METHOD:PUBLISH
X-WR-CALNAME:North Carolina Bankers Association
X-ORIGINAL-URL:https://ncbankers.org
X-WR-CALDESC:Events for North Carolina Bankers Association
REFRESH-INTERVAL;VALUE=DURATION:PT1H
X-Robots-Tag:noindex
X-PUBLISHED-TTL:PT1H
BEGIN:VTIMEZONE
TZID:America/New_York
BEGIN:DAYLIGHT
TZOFFSETFROM:-0500
TZOFFSETTO:-0400
TZNAME:EDT
DTSTART:20240310T070000
END:DAYLIGHT
BEGIN:STANDARD
TZOFFSETFROM:-0400
TZOFFSETTO:-0500
TZNAME:EST
DTSTART:20241103T060000
END:STANDARD
BEGIN:DAYLIGHT
TZOFFSETFROM:-0500
TZOFFSETTO:-0400
TZNAME:EDT
DTSTART:20250309T070000
END:DAYLIGHT
BEGIN:STANDARD
TZOFFSETFROM:-0400
TZOFFSETTO:-0500
TZNAME:EST
DTSTART:20251102T060000
END:STANDARD
BEGIN:DAYLIGHT
TZOFFSETFROM:-0500
TZOFFSETTO:-0400
TZNAME:EDT
DTSTART:20260308T070000
END:DAYLIGHT
BEGIN:STANDARD
TZOFFSETFROM:-0400
TZOFFSETTO:-0500
TZNAME:EST
DTSTART:20261101T060000
END:STANDARD
END:VTIMEZONE
BEGIN:VEVENT
DTSTART;TZID=America/New_York:20250226T000000
DTEND;TZID=America/New_York:20250226T000000
DTSTAMP:20260419T132534
CREATED:20250203T014334Z
LAST-MODIFIED:20250203T014334Z
UID:2238-1740528000-1740528000@ncbankers.org
SUMMARY:Frontline Branch Series: Wowing the Client
DESCRIPTION:The Frontline Branch Series is for retail staff in the branches\, or staff wanting to move into the branches. These professionals may be new hires\, new to the field\, or professionals with years of experience. They are the emerging professionals who want to become qualified to move laterally or forward in the organization.Objective:\nAddresses the needs\, wants\, and expectations of the new\, digital\, and younger clients and employees.\nKey Takeaways: \nLearning how to ask clients questions.\nWorking with clients to identify goals and dreams.\nSelling appropriate products to actualize clients’ dreams and goals. \nAgenda:  \nPresent each team’s Part 1 Project findings to the class – Improve a work process\nExpectations from top clients\, whether they visit us at the branch or not\nGrowing the client relationship – Onboarding and All-Aboarding\nDream building insights – Dreams you are finding through client encounters\nEstablishing baseline service standards – Hear the dream; pick the product\nCreating the ultimate UX (user/client experience) – Being a brand advocate\nGreat Cross-Selling – Asking great questions to get the client talking to discover dreams\nData vs. data driven decision-making – You know the company’s products and how they help your clients. Discover ways to convert more relationships into business.\nStreamlining your work processes – Red carpet exercise\niGen and millennial clients – trouble and opportunity ahead\, must be able to\nmanage relationships up and down with co-workers\, and with client relationships\nDevelop leadership skills and wow your employer – They will take notice\nTeam work and flexibility go both ways – employee and employer – there is no department priority over the overall business\nAction plan for skills transfer back to the job\nAssignment/Project to be completed before Part 3: What are you top 3 questions to uncover dreams? How are you rolling out the red carpet?
URL:https://ncbankers.org/event/frontline-branch-series-wowing-the-client/
END:VEVENT
END:VCALENDAR