BEGIN:VCALENDAR
VERSION:2.0
PRODID:-//North Carolina Bankers Association - ECPv6.15.20//NONSGML v1.0//EN
CALSCALE:GREGORIAN
METHOD:PUBLISH
X-WR-CALNAME:North Carolina Bankers Association
X-ORIGINAL-URL:https://ncbankers.org
X-WR-CALDESC:Events for North Carolina Bankers Association
REFRESH-INTERVAL;VALUE=DURATION:PT1H
X-Robots-Tag:noindex
X-PUBLISHED-TTL:PT1H
BEGIN:VTIMEZONE
TZID:America/New_York
BEGIN:DAYLIGHT
TZOFFSETFROM:-0500
TZOFFSETTO:-0400
TZNAME:EDT
DTSTART:20240310T070000
END:DAYLIGHT
BEGIN:STANDARD
TZOFFSETFROM:-0400
TZOFFSETTO:-0500
TZNAME:EST
DTSTART:20241103T060000
END:STANDARD
BEGIN:DAYLIGHT
TZOFFSETFROM:-0500
TZOFFSETTO:-0400
TZNAME:EDT
DTSTART:20250309T070000
END:DAYLIGHT
BEGIN:STANDARD
TZOFFSETFROM:-0400
TZOFFSETTO:-0500
TZNAME:EST
DTSTART:20251102T060000
END:STANDARD
BEGIN:DAYLIGHT
TZOFFSETFROM:-0500
TZOFFSETTO:-0400
TZNAME:EDT
DTSTART:20260308T070000
END:DAYLIGHT
BEGIN:STANDARD
TZOFFSETFROM:-0400
TZOFFSETTO:-0500
TZNAME:EST
DTSTART:20261101T060000
END:STANDARD
END:VTIMEZONE
BEGIN:VEVENT
DTSTART;TZID=America/New_York:20251010T100000
DTEND;TZID=America/New_York:20251010T120000
DTSTAMP:20260423T114729
CREATED:20250922T135951Z
LAST-MODIFIED:20250922T135951Z
UID:3753-1760090400-1760097600@ncbankers.org
SUMMARY:Lending Compliance 101 - October 10 - 2.5 CRCM Credits
DESCRIPTION:Let’s get down to the basics. We will cover requirements\, guidelines\, and rules for lending. \nAll information in the webinar will be clearly documented in a colorful and user-friendly handbook. This is a wonderful resource that lenders\, loan processors\, and compliance officers will refer to time and time again. \nIn addition to providing compliance summaries\, the handbook offers specific sites to help readers locate rules\, and contains a detailed alphabetical index.
URL:https://ncbankers.org/event/lending-compliance-101-october-10-2-5-crcm-credits/
CATEGORIES:OnCourse Webinars
END:VEVENT
END:VCALENDAR