BEGIN:VCALENDAR
VERSION:2.0
PRODID:-//North Carolina Bankers Association - ECPv6.15.20//NONSGML v1.0//EN
CALSCALE:GREGORIAN
METHOD:PUBLISH
X-WR-CALNAME:North Carolina Bankers Association
X-ORIGINAL-URL:https://ncbankers.org
X-WR-CALDESC:Events for North Carolina Bankers Association
REFRESH-INTERVAL;VALUE=DURATION:PT1H
X-Robots-Tag:noindex
X-PUBLISHED-TTL:PT1H
BEGIN:VTIMEZONE
TZID:America/New_York
BEGIN:DAYLIGHT
TZOFFSETFROM:-0500
TZOFFSETTO:-0400
TZNAME:EDT
DTSTART:20240310T070000
END:DAYLIGHT
BEGIN:STANDARD
TZOFFSETFROM:-0400
TZOFFSETTO:-0500
TZNAME:EST
DTSTART:20241103T060000
END:STANDARD
BEGIN:DAYLIGHT
TZOFFSETFROM:-0500
TZOFFSETTO:-0400
TZNAME:EDT
DTSTART:20250309T070000
END:DAYLIGHT
BEGIN:STANDARD
TZOFFSETFROM:-0400
TZOFFSETTO:-0500
TZNAME:EST
DTSTART:20251102T060000
END:STANDARD
BEGIN:DAYLIGHT
TZOFFSETFROM:-0500
TZOFFSETTO:-0400
TZNAME:EDT
DTSTART:20260308T070000
END:DAYLIGHT
BEGIN:STANDARD
TZOFFSETFROM:-0400
TZOFFSETTO:-0500
TZNAME:EST
DTSTART:20261101T060000
END:STANDARD
END:VTIMEZONE
BEGIN:VEVENT
DTSTART;TZID=America/New_York:20250218T000000
DTEND;TZID=America/New_York:20250218T000000
DTSTAMP:20260422T025510
CREATED:20250127T140209Z
LAST-MODIFIED:20250127T140910Z
UID:1754-1739836800-1739836800@ncbankers.org
SUMMARY:Writing Procedures for Personal and Business Accounts: CIP/CDD\, Risk\, TIN Reporting
DESCRIPTION:During this class\, we will take the core document from the deposit/share accounts handbook and set up a working document so that you can tailor your procedures into the framework we will provide.
URL:https://ncbankers.org/event/writing-procedures-for-personal-and-business-accounts-cip-cdd-risk-tin-reporting/
CATEGORIES:OnCourse Webinars
END:VEVENT
END:VCALENDAR